BEGIN:VCALENDAR
VERSION:2.0
PRODID:-//Pécy - ECPv6.15.20//NONSGML v1.0//EN
CALSCALE:GREGORIAN
METHOD:PUBLISH
X-WR-CALNAME:Pécy
X-ORIGINAL-URL:https://www.mairiepecy.fr
X-WR-CALDESC:Évènements pour Pécy
REFRESH-INTERVAL;VALUE=DURATION:PT1H
X-Robots-Tag:noindex
X-PUBLISHED-TTL:PT1H
BEGIN:VTIMEZONE
TZID:UTC
BEGIN:STANDARD
TZOFFSETFROM:+0000
TZOFFSETTO:+0000
TZNAME:UTC
DTSTART:20250101T000000
END:STANDARD
END:VTIMEZONE
BEGIN:VEVENT
DTSTART;VALUE=DATE:20260827
DTEND;VALUE=DATE:20260828
DTSTAMP:20260422T104844
CREATED:20260112T145146Z
LAST-MODIFIED:20260112T145146Z
UID:7190-1787788800-1787875199@www.mairiepecy.fr
SUMMARY:Nettoyage des caniveaux
DESCRIPTION:Attention à tous les résidents : la balayeuse passera dans notre rue demain matin.\nMerci de respecter l’arrêt de stationnement afin de permettre un nettoyage efficace.
URL:https://www.mairiepecy.fr/evenement/nettoyage-des-caniveaux-6
ATTACH;FMTTYPE=image/jpeg:https://www.mairiepecy.fr/wp-content/uploads/2026/01/Balayeuse-aout26.jpg
END:VEVENT
END:VCALENDAR