BEGIN:VCALENDAR
VERSION:2.0
PRODID:-//Pécy - ECPv6.15.20//NONSGML v1.0//EN
CALSCALE:GREGORIAN
METHOD:PUBLISH
X-ORIGINAL-URL:https://www.mairiepecy.fr
X-WR-CALDESC:Évènements pour Pécy
REFRESH-INTERVAL;VALUE=DURATION:PT1H
X-Robots-Tag:noindex
X-PUBLISHED-TTL:PT1H
BEGIN:VTIMEZONE
TZID:UTC
BEGIN:STANDARD
TZOFFSETFROM:+0000
TZOFFSETTO:+0000
TZNAME:UTC
DTSTART:20250101T000000
END:STANDARD
END:VTIMEZONE
BEGIN:VEVENT
DTSTART;TZID=UTC:20260523T080000
DTEND;TZID=UTC:20260604T170000
DTSTAMP:20260420T135313
CREATED:20260218T082852Z
LAST-MODIFIED:20260218T083300Z
UID:7218-1779523200-1780592400@www.mairiepecy.fr
SUMMARY:Visite de l'école des Deux Tilleuls
DESCRIPTION:Pour préparer la rentrée sereinement\, l’équipe pédagogique vous convie à découvrir l’établissement les samedis 23 mai et 6 juin. Cette rencontre vous permettra de découvrir les locaux  et de formaliser l’inscription de vos enfants.\nInscription au 01 64 01 57 42 \nPlus d’information : cliquez ici
URL:https://www.mairiepecy.fr/evenement/visite-de-lecole-des-deux-tilleuls
LOCATION:Ecole de Pécy
ATTACH;FMTTYPE=image/jpeg:https://www.mairiepecy.fr/wp-content/uploads/2026/02/Ecole-des-Tilleuls-2.jpg
END:VEVENT
BEGIN:VEVENT
DTSTART;VALUE=DATE:20260625
DTEND;VALUE=DATE:20260626
DTSTAMP:20260420T135313
CREATED:20260112T145044Z
LAST-MODIFIED:20260112T145044Z
UID:7188-1782345600-1782431999@www.mairiepecy.fr
SUMMARY:Nettoyage des caniveaux
DESCRIPTION:Attention à tous les résidents : la balayeuse passera dans notre rue demain matin.\nMerci de respecter l’arrêt de stationnement afin de permettre un nettoyage efficace.
URL:https://www.mairiepecy.fr/evenement/nettoyage-des-caniveaux-5
ATTACH;FMTTYPE=image/jpeg:https://www.mairiepecy.fr/wp-content/uploads/2026/01/Balayeuse-juin26.jpg
END:VEVENT
END:VCALENDAR