BEGIN:VCALENDAR
VERSION:2.0
PRODID:-//Pécy - ECPv6.15.20//NONSGML v1.0//EN
CALSCALE:GREGORIAN
METHOD:PUBLISH
X-ORIGINAL-URL:https://www.mairiepecy.fr
X-WR-CALDESC:Évènements pour Pécy
REFRESH-INTERVAL;VALUE=DURATION:PT1H
X-Robots-Tag:noindex
X-PUBLISHED-TTL:PT1H
BEGIN:VTIMEZONE
TZID:UTC
BEGIN:STANDARD
TZOFFSETFROM:+0000
TZOFFSETTO:+0000
TZNAME:UTC
DTSTART:20240101T000000
END:STANDARD
END:VTIMEZONE
BEGIN:VEVENT
DTSTART;TZID=UTC:20251117T080000
DTEND;TZID=UTC:20251216T170000
DTSTAMP:20260422T160047
CREATED:20251201T073817Z
LAST-MODIFIED:20251201T102809Z
UID:7022-1763366400-1765904400@www.mairiepecy.fr
SUMMARY:Travaux : Ruelle Guingand
DESCRIPTION:La société ESTP va intervenir pour la pose de nouvelles canalisations d’eau potable au niveau du 3 ruelle Guingand.
URL:https://www.mairiepecy.fr/evenement/travaux-ruelle-guingand
ATTACH;FMTTYPE=image/jpeg:https://www.mairiepecy.fr/wp-content/uploads/2025/12/CANALISATIONS-RUELLE-GUINGAND.jpg
END:VEVENT
BEGIN:VEVENT
DTSTART;TZID=UTC:20251211T080000
DTEND;TZID=UTC:20251211T170000
DTSTAMP:20260422T160048
CREATED:20251211T125303Z
LAST-MODIFIED:20251211T125303Z
UID:7135-1765440000-1765472400@www.mairiepecy.fr
SUMMARY:Atelier décorations de Noël - SMETOM GEODE
DESCRIPTION:
URL:https://www.mairiepecy.fr/evenement/atelier-decorations-de-noel-smetom-geode
ATTACH;FMTTYPE=image/png:https://www.mairiepecy.fr/wp-content/uploads/2025/12/atelier-noel-ressourcerie-smetom-geeode-site-web.png
END:VEVENT
BEGIN:VEVENT
DTSTART;TZID=UTC:20251211T080000
DTEND;TZID=UTC:20251222T170000
DTSTAMP:20260422T160048
CREATED:20251211T081305Z
LAST-MODIFIED:20251211T123739Z
UID:7048-1765440000-1766422800@www.mairiepecy.fr
SUMMARY:Révision du PLU - Permanences du commissaire enquêteur
DESCRIPTION:Consulter le dossier de Révision du PLU ici
URL:https://www.mairiepecy.fr/evenement/revision-du-plu-permanences-du-commissaire-enqueteur
ATTACH;FMTTYPE=image/jpeg:https://www.mairiepecy.fr/wp-content/uploads/2025/12/Enquete-PLU-Dec.jpg
END:VEVENT
BEGIN:VEVENT
DTSTART;VALUE=DATE:20251222
DTEND;VALUE=DATE:20251223
DTSTAMP:20260422T160048
CREATED:20251016T203444Z
LAST-MODIFIED:20251127T091214Z
UID:6927-1766361600-1766447999@www.mairiepecy.fr
SUMMARY:Nettoyage des caniveaux
DESCRIPTION:
URL:https://www.mairiepecy.fr/evenement/nettoyage-des-caniveaux
LOCATION:Pécy\, 2A rue du Prieuré\, Pécy\, 77970\, France
ATTACH;FMTTYPE=image/jpeg:https://www.mairiepecy.fr/wp-content/uploads/2025/11/balayage.jpg
END:VEVENT
BEGIN:VEVENT
DTSTART;TZID=UTC:20251223T080000
DTEND;TZID=UTC:20260117T170000
DTSTAMP:20260422T160048
CREATED:20251223T134858Z
LAST-MODIFIED:20251223T134858Z
UID:7140-1766476800-1768669200@www.mairiepecy.fr
SUMMARY:Vœux du maire 2026
DESCRIPTION:L’équipe Municipale vous convie à la traditionnelle Cérémonie des Vœux qui se tiendra le samedi 17 janvier à 10h à la salle Culturelle et Sportive.
URL:https://www.mairiepecy.fr/evenement/voeux-du-maire-2026
ATTACH;FMTTYPE=image/jpeg:https://www.mairiepecy.fr/wp-content/uploads/2025/12/Meilleurs-voeux-valide.jpg
END:VEVENT
BEGIN:VEVENT
DTSTART;TZID=UTC:20251224T080000
DTEND;TZID=UTC:20251231T170000
DTSTAMP:20260422T160048
CREATED:20251127T091551Z
LAST-MODIFIED:20251201T102732Z
UID:7018-1766563200-1767200400@www.mairiepecy.fr
SUMMARY:SMETOM : Fermeture hivernale
DESCRIPTION:Les déchetteries du SMETOM seront fermées\, à titre exceptionnel\, du 24 décembre au 31 décembre pour les déchetteries et jusqu’au 2 janvier pour la ressourcerie.
URL:https://www.mairiepecy.fr/evenement/smetom-fermeture-hivernale
ATTACH;FMTTYPE=image/png:https://www.mairiepecy.fr/wp-content/uploads/2025/11/fermetures_hivernales_2025_SMETOM_GEEODE-2.png
END:VEVENT
END:VCALENDAR