BEGIN:VCALENDAR
VERSION:2.0
PRODID:-//Pécy - ECPv6.15.20//NONSGML v1.0//EN
CALSCALE:GREGORIAN
METHOD:PUBLISH
X-WR-CALNAME:Pécy
X-ORIGINAL-URL:https://www.mairiepecy.fr
X-WR-CALDESC:Évènements pour Pécy
REFRESH-INTERVAL;VALUE=DURATION:PT1H
X-Robots-Tag:noindex
X-PUBLISHED-TTL:PT1H
BEGIN:VTIMEZONE
TZID:UTC
BEGIN:STANDARD
TZOFFSETFROM:+0000
TZOFFSETTO:+0000
TZNAME:UTC
DTSTART:20240101T000000
END:STANDARD
END:VTIMEZONE
BEGIN:VEVENT
DTSTART;TZID=UTC:20251021T080000
DTEND;TZID=UTC:20251114T170000
DTSTAMP:20260422T140348
CREATED:20251016T203843Z
LAST-MODIFIED:20251016T204544Z
UID:6930-1761033600-1763139600@www.mairiepecy.fr
SUMMARY:Enedis - Survol
DESCRIPTION:survol helicoptere 2025 2
URL:https://www.mairiepecy.fr/evenement/enedis-survol
ATTACH;FMTTYPE=image/jpeg:https://www.mairiepecy.fr/wp-content/uploads/2025/10/survol-helicoptere-2025-.001.jpeg
END:VEVENT
BEGIN:VEVENT
DTSTART;TZID=UTC:20251101T150000
DTEND;TZID=UTC:20251101T183000
DTSTAMP:20260422T140348
CREATED:20251016T203221Z
LAST-MODIFIED:20251016T203221Z
UID:6924-1762009200-1762021800@www.mairiepecy.fr
SUMMARY:Après-midi Frissons
DESCRIPTION:
URL:https://www.mairiepecy.fr/evenement/apres-midi-frissons
ATTACH;FMTTYPE=image/jpeg:https://www.mairiepecy.fr/wp-content/uploads/2025/10/apres-midi-frissons-1000-x-1500-mm-scaled.jpg
END:VEVENT
BEGIN:VEVENT
DTSTART;TZID=UTC:20251103T080000
DTEND;TZID=UTC:20251110T170000
DTSTAMP:20260422T140348
CREATED:20251103T110747Z
LAST-MODIFIED:20251104T073040Z
UID:6975-1762156800-1762794000@www.mairiepecy.fr
SUMMARY:Travaux : fermeture du cimetière
DESCRIPTION:En raison de travaux d’aménagement du cimetière de Pécy\, l’accès sera interdit dans l’enceinte du cimetière le temps des travaux\, du 3 au 7 novembre. La circulation sur l’allée centrale sera interdite jusqu’au 10 novembre.
URL:https://www.mairiepecy.fr/evenement/travaux-fermeture-du-cimetiere
ATTACH;FMTTYPE=image/jpeg:https://www.mairiepecy.fr/wp-content/uploads/2025/11/Travaux-cimetiere.jpg
END:VEVENT
BEGIN:VEVENT
DTSTART;TZID=UTC:20251111T100000
DTEND;TZID=UTC:20251111T113000
DTSTAMP:20260422T140348
CREATED:20251103T084719Z
LAST-MODIFIED:20251103T084719Z
UID:6972-1762855200-1762860600@www.mairiepecy.fr
SUMMARY:Cérémonie commémorative du 107e anniversaire de l’Armistice du 11 novembre 1918
DESCRIPTION:11 novembre : Cérémonie commémorative du 107e anniversaire de l’Armistice du 11 novembre 1918\, de la Victoire et de la Paix et d’hommage à tous les Morts pour la France
URL:https://www.mairiepecy.fr/evenement/ceremonie-commemorative-du-107e-anniversaire-de-larmistice-du-11-novembre-1918
ATTACH;FMTTYPE=image/jpeg:https://www.mairiepecy.fr/wp-content/uploads/2024/11/cOMMEMORATION-1418.jpg
END:VEVENT
BEGIN:VEVENT
DTSTART;TZID=UTC:20251117T080000
DTEND;TZID=UTC:20251216T170000
DTSTAMP:20260422T140348
CREATED:20251201T073817Z
LAST-MODIFIED:20251201T102809Z
UID:7022-1763366400-1765904400@www.mairiepecy.fr
SUMMARY:Travaux : Ruelle Guingand
DESCRIPTION:La société ESTP va intervenir pour la pose de nouvelles canalisations d’eau potable au niveau du 3 ruelle Guingand.
URL:https://www.mairiepecy.fr/evenement/travaux-ruelle-guingand
ATTACH;FMTTYPE=image/jpeg:https://www.mairiepecy.fr/wp-content/uploads/2025/12/CANALISATIONS-RUELLE-GUINGAND.jpg
END:VEVENT
END:VCALENDAR