BEGIN:VCALENDAR
VERSION:2.0
PRODID:-//Pécy - ECPv6.15.20//NONSGML v1.0//EN
CALSCALE:GREGORIAN
METHOD:PUBLISH
X-WR-CALNAME:Pécy
X-ORIGINAL-URL:https://www.mairiepecy.fr
X-WR-CALDESC:Évènements pour Pécy
REFRESH-INTERVAL;VALUE=DURATION:PT1H
X-Robots-Tag:noindex
X-PUBLISHED-TTL:PT1H
BEGIN:VTIMEZONE
TZID:UTC
BEGIN:STANDARD
TZOFFSETFROM:+0000
TZOFFSETTO:+0000
TZNAME:UTC
DTSTART:20250101T000000
END:STANDARD
END:VTIMEZONE
BEGIN:VEVENT
DTSTART;TZID=UTC:20260420T080000
DTEND;TZID=UTC:20260525T170000
DTSTAMP:20260422T090132
CREATED:20260420T165124Z
LAST-MODIFIED:20260420T165124Z
UID:7376-1776672000-1779728400@www.mairiepecy.fr
SUMMARY:Fermeture exceptionnelle des sites du SMETOM
DESCRIPTION:
URL:https://www.mairiepecy.fr/evenement/fermeture-exceptionnelle-des-sites-du-smetom
ATTACH;FMTTYPE=image/jpeg:https://www.mairiepecy.fr/wp-content/uploads/2026/04/fermetures_mai_26_smetom_geeode_nangis_page-0001.jpg
END:VEVENT
END:VCALENDAR