BEGIN:VCALENDAR
VERSION:2.0
PRODID:-//Pécy - ECPv6.15.20//NONSGML v1.0//EN
CALSCALE:GREGORIAN
METHOD:PUBLISH
X-ORIGINAL-URL:https://www.mairiepecy.fr
X-WR-CALDESC:Évènements pour Pécy
REFRESH-INTERVAL;VALUE=DURATION:PT1H
X-Robots-Tag:noindex
X-PUBLISHED-TTL:PT1H
BEGIN:VTIMEZONE
TZID:UTC
BEGIN:STANDARD
TZOFFSETFROM:+0000
TZOFFSETTO:+0000
TZNAME:UTC
DTSTART:20240101T000000
END:STANDARD
END:VTIMEZONE
BEGIN:VEVENT
DTSTART;TZID=UTC:20251021T080000
DTEND;TZID=UTC:20251114T170000
DTSTAMP:20260422T172354
CREATED:20251016T203843Z
LAST-MODIFIED:20251016T204544Z
UID:6930-1761033600-1763139600@www.mairiepecy.fr
SUMMARY:Enedis - Survol
DESCRIPTION:survol helicoptere 2025 2
URL:https://www.mairiepecy.fr/evenement/enedis-survol
ATTACH;FMTTYPE=image/jpeg:https://www.mairiepecy.fr/wp-content/uploads/2025/10/survol-helicoptere-2025-.001.jpeg
END:VEVENT
BEGIN:VEVENT
DTSTART;TZID=UTC:20251023T074500
DTEND;TZID=UTC:20251031T173000
DTSTAMP:20260422T172354
CREATED:20251022T103503Z
LAST-MODIFIED:20251027T084127Z
UID:6950-1761205500-1761931800@www.mairiepecy.fr
SUMMARY:Travaux Rue de la Butte de Mirvaux
DESCRIPTION:
URL:https://www.mairiepecy.fr/evenement/travaux-rue-de-la-butte-de-mirvaux
ATTACH;FMTTYPE=image/jpeg:https://www.mairiepecy.fr/wp-content/uploads/2025/10/RUE-DES-BUTTES-DE-MIRV.-Modif2.jpg
END:VEVENT
BEGIN:VEVENT
DTSTART;TZID=UTC:20251024T074500
DTEND;TZID=UTC:20251031T171500
DTSTAMP:20260422T172354
CREATED:20251017T135517Z
LAST-MODIFIED:20251017T135517Z
UID:6941-1761291900-1761930900@www.mairiepecy.fr
SUMMARY:Travaux Rue de Louche
DESCRIPTION:
URL:https://www.mairiepecy.fr/evenement/travaux-rue-de-louche
ATTACH;FMTTYPE=image/jpeg:https://www.mairiepecy.fr/wp-content/uploads/2025/10/Flyer-travaux-1.jpg
END:VEVENT
END:VCALENDAR